BEGIN:VCALENDAR
VERSION:2.0
PRODID:-//MIPS Inc - ECPv6.15.20//NONSGML v1.0//EN
CALSCALE:GREGORIAN
METHOD:PUBLISH
X-WR-CALNAME:MIPS Inc
X-ORIGINAL-URL:https://mipscounties.com
X-WR-CALDESC:Events for MIPS Inc
REFRESH-INTERVAL;VALUE=DURATION:PT1H
X-Robots-Tag:noindex
X-PUBLISHED-TTL:PT1H
BEGIN:VTIMEZONE
TZID:America/Chicago
BEGIN:DAYLIGHT
TZOFFSETFROM:-0600
TZOFFSETTO:-0500
TZNAME:CDT
DTSTART:20250309T080000
END:DAYLIGHT
BEGIN:STANDARD
TZOFFSETFROM:-0500
TZOFFSETTO:-0600
TZNAME:CST
DTSTART:20251102T070000
END:STANDARD
BEGIN:DAYLIGHT
TZOFFSETFROM:-0600
TZOFFSETTO:-0500
TZNAME:CDT
DTSTART:20260308T080000
END:DAYLIGHT
BEGIN:STANDARD
TZOFFSETFROM:-0500
TZOFFSETTO:-0600
TZNAME:CST
DTSTART:20261101T070000
END:STANDARD
BEGIN:DAYLIGHT
TZOFFSETFROM:-0600
TZOFFSETTO:-0500
TZNAME:CDT
DTSTART:20270314T080000
END:DAYLIGHT
BEGIN:STANDARD
TZOFFSETFROM:-0500
TZOFFSETTO:-0600
TZNAME:CST
DTSTART:20271107T070000
END:STANDARD
END:VTIMEZONE
BEGIN:VEVENT
DTSTART;VALUE=DATE:20260101
DTEND;VALUE=DATE:20260102
DTSTAMP:20260425T091131
CREATED:20240531T183321Z
LAST-MODIFIED:20240821T160324Z
UID:10000036-1767225600-1767311999@mipscounties.com
SUMMARY:New Years Day Holiday Closure
DESCRIPTION:As we usher in the New Year\, we would like to inform everyone that our office will be closed on New Years Day\, in observance of New Year’s Day. This day symbolizes new beginnings\, hope\, and the opportunity for fresh starts. We encourage everyone to take this time to celebrate with friends and family\, reflect on the past year’s achievements\, and set intentions for the year ahead. Wishing you all a joyous New Year filled with prosperity\, happiness\, and success. Normal office operations will resume on the following business day. Happy New Year!
URL:https://mipscounties.com/event/new-years-day-holiday-closure/2026-01-01/
LOCATION:NE
CATEGORIES:Announcements
END:VEVENT
BEGIN:VEVENT
DTSTART;TZID=America/Chicago:20260109T100000
DTEND;TZID=America/Chicago:20260109T100000
DTSTAMP:20260425T091131
CREATED:20260109T053823Z
LAST-MODIFIED:20260109T053823Z
UID:10000100-1767952800-1767952800@mipscounties.com
SUMMARY:Depreciation Station: Part 1 Data Analysis
DESCRIPTION:[vc_row][vc_column][vc_column_text css=””] \nJoin us for part 1 of the depreciation discussion. This session is designed as a practical\, instructional class—not just a software walkthrough—and will focus on the market analysis side of depreciation.[/vc_column_text][/vc_column][/vc_row]
URL:https://mipscounties.com/event/depreciation-station-part-1-data-analysis/
LOCATION:Webinar
END:VEVENT
BEGIN:VEVENT
DTSTART;VALUE=DATE:20260119
DTEND;VALUE=DATE:20260120
DTSTAMP:20260425T091131
CREATED:20240531T183605Z
LAST-MODIFIED:20240821T154103Z
UID:10000032-1768780800-1768867199@mipscounties.com
SUMMARY:Martin Luther King Jr. Day Holiday Closure
DESCRIPTION:In recognition of the profound legacy and enduring impact of Dr. Martin Luther King Jr.\, our office will be closed on Monday\, in observance of Martin Luther King Jr. Day. This day serves as a reminder of Dr. King’s tireless pursuit of equality\, justice\, and civil rights for all. We encourage everyone to honor his memory by engaging in acts of service\, reflection\, and community involvement. Let us continue to strive towards creating a more inclusive and equitable society. Normal office operations will resume on Tuesday.
URL:https://mipscounties.com/event/martin-luther-king-jr-day-holiday-closure/2026-01-19/
LOCATION:NE
CATEGORIES:Announcements
END:VEVENT
END:VCALENDAR