BEGIN:VCALENDAR
VERSION:2.0
PRODID:-//MIPS Inc - ECPv6.15.20//NONSGML v1.0//EN
CALSCALE:GREGORIAN
METHOD:PUBLISH
X-WR-CALNAME:MIPS Inc
X-ORIGINAL-URL:https://mipscounties.com
X-WR-CALDESC:Events for MIPS Inc
REFRESH-INTERVAL;VALUE=DURATION:PT1H
X-Robots-Tag:noindex
X-PUBLISHED-TTL:PT1H
BEGIN:VTIMEZONE
TZID:America/Chicago
BEGIN:DAYLIGHT
TZOFFSETFROM:-0600
TZOFFSETTO:-0500
TZNAME:CDT
DTSTART:20240310T080000
END:DAYLIGHT
BEGIN:STANDARD
TZOFFSETFROM:-0500
TZOFFSETTO:-0600
TZNAME:CST
DTSTART:20241103T070000
END:STANDARD
BEGIN:DAYLIGHT
TZOFFSETFROM:-0600
TZOFFSETTO:-0500
TZNAME:CDT
DTSTART:20250309T080000
END:DAYLIGHT
BEGIN:STANDARD
TZOFFSETFROM:-0500
TZOFFSETTO:-0600
TZNAME:CST
DTSTART:20251102T070000
END:STANDARD
BEGIN:DAYLIGHT
TZOFFSETFROM:-0600
TZOFFSETTO:-0500
TZNAME:CDT
DTSTART:20260308T080000
END:DAYLIGHT
BEGIN:STANDARD
TZOFFSETFROM:-0500
TZOFFSETTO:-0600
TZNAME:CST
DTSTART:20261101T070000
END:STANDARD
END:VTIMEZONE
BEGIN:VEVENT
DTSTART;VALUE=DATE:20251111
DTEND;VALUE=DATE:20251112
DTSTAMP:20260425T075245
CREATED:20240531T182231Z
LAST-MODIFIED:20240821T155753Z
UID:10000048-1762819200-1762905599@mipscounties.com
SUMMARY:Veteran's Day Holiday Closure
DESCRIPTION:In honor of Veteran’s Day\, our office will be closed on Veterans Day. This day stands as a tribute to the brave men and women who have served and continue to serve our country with courage and dedication. We express our deepest gratitude to all veterans for their sacrifices and commitment to preserving our freedoms. Let us take this opportunity to reflect on their contributions and to honor their service. Normal office operations will resume on the following business day.
URL:https://mipscounties.com/event/veterans-day-holiday-closure/2025-11-11/
LOCATION:NE
CATEGORIES:Announcements
END:VEVENT
BEGIN:VEVENT
DTSTART;VALUE=DATE:20251127
DTEND;VALUE=DATE:20251129
DTSTAMP:20260425T075245
CREATED:20240531T182947Z
LAST-MODIFIED:20240821T155849Z
UID:10000044-1764201600-1764374399@mipscounties.com
SUMMARY:Thanksgiving Holiday Closure
DESCRIPTION:In celebration of Thanksgiving\, our office will be closed on Thanksgiving and the Friday after Thanksgiving\, to allow our team to spend quality time with their loved ones and express gratitude for the blessings in their lives. We extend our heartfelt appreciation to all our employees for their hard work and dedication throughout the year. May this day be filled with warmth\, joy\, and cherished moments with family and friends. Normal office operations will resume on Monday. Happy Thanksgiving!
URL:https://mipscounties.com/event/thanksgiving-day-holiday-closure/2025-11-27/
LOCATION:NE
CATEGORIES:Announcements
END:VEVENT
END:VCALENDAR