BEGIN:VCALENDAR
VERSION:2.0
PRODID:-//MIPS Inc - ECPv6.15.20//NONSGML v1.0//EN
CALSCALE:GREGORIAN
METHOD:PUBLISH
X-ORIGINAL-URL:https://mipscounties.com
X-WR-CALDESC:Events for MIPS Inc
REFRESH-INTERVAL;VALUE=DURATION:PT1H
X-Robots-Tag:noindex
X-PUBLISHED-TTL:PT1H
BEGIN:VTIMEZONE
TZID:America/Chicago
BEGIN:DAYLIGHT
TZOFFSETFROM:-0600
TZOFFSETTO:-0500
TZNAME:CDT
DTSTART:20240310T080000
END:DAYLIGHT
BEGIN:STANDARD
TZOFFSETFROM:-0500
TZOFFSETTO:-0600
TZNAME:CST
DTSTART:20241103T070000
END:STANDARD
BEGIN:DAYLIGHT
TZOFFSETFROM:-0600
TZOFFSETTO:-0500
TZNAME:CDT
DTSTART:20250309T080000
END:DAYLIGHT
BEGIN:STANDARD
TZOFFSETFROM:-0500
TZOFFSETTO:-0600
TZNAME:CST
DTSTART:20251102T070000
END:STANDARD
BEGIN:DAYLIGHT
TZOFFSETFROM:-0600
TZOFFSETTO:-0500
TZNAME:CDT
DTSTART:20260308T080000
END:DAYLIGHT
BEGIN:STANDARD
TZOFFSETFROM:-0500
TZOFFSETTO:-0600
TZNAME:CST
DTSTART:20261101T070000
END:STANDARD
END:VTIMEZONE
BEGIN:VEVENT
DTSTART;VALUE=DATE:20250901
DTEND;VALUE=DATE:20250902
DTSTAMP:20260425T091256
CREATED:20240531T181844Z
LAST-MODIFIED:20240821T155024Z
UID:10000056-1756684800-1756771199@mipscounties.com
SUMMARY:Labor Day Holiday Closure
DESCRIPTION:In observance of Labor Day\, we would like to inform all employees and stakeholders that our office will be closed on Monday. This day serves as a tribute to the hard work and dedication of workers across the nation\, and as such\, we encourage everyone to take this opportunity to relax and enjoy time with family and friends. Normal office hours will resume on Tuesday. We appreciate your understanding and wish everyone a joyful and restful holiday.
URL:https://mipscounties.com/event/labor-day-holiday-closure/2025-09-01/
LOCATION:NE
CATEGORIES:Announcements
END:VEVENT
BEGIN:VEVENT
DTSTART;TZID=America/Chicago:20250922T100000
DTEND;TZID=America/Chicago:20250922T110000
DTSTAMP:20260425T091256
CREATED:20250919T201518Z
LAST-MODIFIED:20250919T201656Z
UID:10000088-1758535200-1758538800@mipscounties.com
SUMMARY:Field Work Ahead: Year-Round Property Collection Webinar
DESCRIPTION:Don’t wait for reappraisal season—learn how the MIPS Assessment Program lets you collect and update residential property data any time of year. Stay on track\, streamline your workflow\, and make reappraisals easier than ever.
URL:https://mipscounties.com/event/field-work-ahead-year-round-property-collection-webinar/
LOCATION:Webinar
END:VEVENT
END:VCALENDAR