BEGIN:VCALENDAR
VERSION:2.0
PRODID:-//MIPS Inc - ECPv6.15.20//NONSGML v1.0//EN
CALSCALE:GREGORIAN
METHOD:PUBLISH
X-ORIGINAL-URL:https://mipscounties.com
X-WR-CALDESC:Events for MIPS Inc
REFRESH-INTERVAL;VALUE=DURATION:PT1H
X-Robots-Tag:noindex
X-PUBLISHED-TTL:PT1H
BEGIN:VTIMEZONE
TZID:America/Chicago
BEGIN:DAYLIGHT
TZOFFSETFROM:-0600
TZOFFSETTO:-0500
TZNAME:CDT
DTSTART:20250309T080000
END:DAYLIGHT
BEGIN:STANDARD
TZOFFSETFROM:-0500
TZOFFSETTO:-0600
TZNAME:CST
DTSTART:20251102T070000
END:STANDARD
BEGIN:DAYLIGHT
TZOFFSETFROM:-0600
TZOFFSETTO:-0500
TZNAME:CDT
DTSTART:20260308T080000
END:DAYLIGHT
BEGIN:STANDARD
TZOFFSETFROM:-0500
TZOFFSETTO:-0600
TZNAME:CST
DTSTART:20261101T070000
END:STANDARD
BEGIN:DAYLIGHT
TZOFFSETFROM:-0600
TZOFFSETTO:-0500
TZNAME:CDT
DTSTART:20270314T080000
END:DAYLIGHT
BEGIN:STANDARD
TZOFFSETFROM:-0500
TZOFFSETTO:-0600
TZNAME:CST
DTSTART:20271107T070000
END:STANDARD
END:VTIMEZONE
BEGIN:VEVENT
DTSTART;VALUE=DATE:20261126
DTEND;VALUE=DATE:20261128
DTSTAMP:20260425T174243
CREATED:20240531T182947Z
LAST-MODIFIED:20240821T155849Z
UID:10000045-1795651200-1795823999@mipscounties.com
SUMMARY:Thanksgiving Holiday Closure
DESCRIPTION:In celebration of Thanksgiving\, our office will be closed on Thanksgiving and the Friday after Thanksgiving\, to allow our team to spend quality time with their loved ones and express gratitude for the blessings in their lives. We extend our heartfelt appreciation to all our employees for their hard work and dedication throughout the year. May this day be filled with warmth\, joy\, and cherished moments with family and friends. Normal office operations will resume on Monday. Happy Thanksgiving!
URL:https://mipscounties.com/event/thanksgiving-day-holiday-closure/2026-11-26/
CATEGORIES:Announcements
END:VEVENT
BEGIN:VEVENT
DTSTART;VALUE=DATE:20261225
DTEND;VALUE=DATE:20261226
DTSTAMP:20260425T174243
CREATED:20240531T183134Z
LAST-MODIFIED:20240821T160009Z
UID:10000041-1798156800-1798243199@mipscounties.com
SUMMARY:Christmas Holiday Closure
DESCRIPTION:In the spirit of the holiday season\, we are delighted to announce that our office will be closed on Christmas Day\, in observance of Christmas. This festive occasion is a time for joy\, reflection\, and cherished moments with loved ones. We extend our warmest wishes for a merry and bright Christmas to all our employees\, clients\, and partners. May this special day be filled with laughter\, love\, and the magic of the season. Normal office operations will resume on the next business day. Merry Christmas from all of us!
URL:https://mipscounties.com/event/christmas-holiday-closure/2026-12-25/
CATEGORIES:Announcements
END:VEVENT
END:VCALENDAR